BEGIN:VCALENDAR
VERSION:2.0
PRODID:-//Fears Promotions - ECPv6.5.1.4//NONSGML v1.0//EN
CALSCALE:GREGORIAN
METHOD:PUBLISH
X-WR-CALNAME:Fears Promotions
X-ORIGINAL-URL:https://fearspromotions.com
X-WR-CALDESC:Events for Fears Promotions
REFRESH-INTERVAL;VALUE=DURATION:PT1H
X-Robots-Tag:noindex
X-PUBLISHED-TTL:PT1H
BEGIN:VTIMEZONE
TZID:UTC
BEGIN:STANDARD
TZOFFSETFROM:+0000
TZOFFSETTO:+0000
TZNAME:UTC
DTSTART:20240101T000000
END:STANDARD
END:VTIMEZONE
BEGIN:VEVENT
DTSTART;TZID=UTC:20241231T180000
DTEND;TZID=UTC:20250101T000000
DTSTAMP:20260421T040204
CREATED:20241016T224712Z
LAST-MODIFIED:20241016T224712Z
UID:762-1735668000-1735689600@fearspromotions.com
SUMMARY:2025 MONOPOLIZE New Years Eve All Black Jamboree
DESCRIPTION:FEARS PROMOTIONS presents a New Years Eve party like none other before it! Experience the vibe of New York City with an all star performance by Gina Thompson as she performs her classic hit “The things you do” Also there will be slamming tunes by DJRF sure to get your party blood pumping!
URL:https://fearspromotions.com/event/2025-monopolize-new-years-eve-all-black-jamboree/
CATEGORIES:Music Events
ATTACH;FMTTYPE=image/jpeg:https://fearspromotions.com/wp-content/uploads/2024/10/IMG_7352.jpeg
END:VEVENT
END:VCALENDAR